BEGIN:VCALENDAR
VERSION:2.0
PRODID:-//https://www.digby.ca//NONSGML kigkonsult.se iCalcreator 2.29.29//
CALSCALE:GREGORIAN
METHOD:PUBLISH
UID:a1f58b4b-e9b4-4cda-8f44-5effaf163ae4
X-WR-CALNAME:JCal Pro Calendar
X-WR-CALDESC:Your online events calendar
X-WR-TIMEZONE:America/Halifax
BEGIN:VTIMEZONE
TZID:America/Halifax
BEGIN:STANDARD
TZNAME:AST
DTSTART:20251102T020000
TZOFFSETFROM:-0300
TZOFFSETTO:-0400
RDATE:20261101T020000
END:STANDARD
BEGIN:DAYLIGHT
TZNAME:ADT
DTSTART:20260308T020000
TZOFFSETFROM:-0400
TZOFFSETTO:-0300
RDATE:20270314T020000
END:DAYLIGHT
END:VTIMEZONE
BEGIN:VEVENT
UID:20241202T180000AST-9733ZKwAlW@https://digby.ca/
DTSTAMP:20260419T162205Z
CATEGORIES:Council Meetings
DTSTART;TZID=America/Halifax:20241202T180000
DTEND;TZID=America/Halifax:20241202T200000
SUMMARY:Council Meeting
URL:https://www.digby.ca/36-council-meetings/6120-council-meeting.html
END:VEVENT
END:VCALENDAR
