BEGIN:VCALENDAR
VERSION:2.0
PRODID:-//https://www.digby.ca//NONSGML kigkonsult.se iCalcreator 2.29.29//
CALSCALE:GREGORIAN
METHOD:PUBLISH
UID:3fb99165-4cc9-4763-8156-4a301b8915e0
X-WR-CALNAME:JCal Pro Calendar
X-WR-CALDESC:Your online events calendar
X-WR-TIMEZONE:America/Halifax
BEGIN:VTIMEZONE
TZID:America/Halifax
BEGIN:STANDARD
TZNAME:AST
DTSTART:20251102T020000
TZOFFSETFROM:-0300
TZOFFSETTO:-0400
RDATE:20261101T020000
END:STANDARD
BEGIN:DAYLIGHT
TZNAME:ADT
DTSTART:20260308T020000
TZOFFSETFROM:-0400
TZOFFSETTO:-0300
RDATE:20270314T020000
END:DAYLIGHT
END:VTIMEZONE
BEGIN:VEVENT
UID:20240702T180000ADT-1261R3UAvS@https://digby.ca/
DTSTAMP:20260419T171743Z
CATEGORIES:Council Meetings
DTSTART;TZID=America/Halifax:20240702T180000
DTEND;TZID=America/Halifax:20240702T200000
SUMMARY:Council Meeting
URL:https://www.digby.ca/36-council-meetings/6101-council-meeting.html
END:VEVENT
BEGIN:VEVENT
UID:20240705T090000ADT-0250upNrHS@https://digby.ca/
DTSTAMP:20260419T171743Z
CATEGORIES:Special Events
DTSTART;TZID=America/Halifax:20240705T090000
DTEND;TZID=America/Halifax:20240707T220000
SUMMARY:Lobster bash festival
URL:https://www.digby.ca/38-special-events/6105-lobster-bash-festival.html
END:VEVENT
BEGIN:VEVENT
UID:20240715T180000ADT-9907TBk0I0@https://digby.ca/
DTSTAMP:20260419T171743Z
CATEGORIES:Monthly Meetings
DTSTART;TZID=America/Halifax:20240715T180000
DTEND;TZID=America/Halifax:20240715T200000
SUMMARY:Committee of the Whole Meeting
URL:https://www.digby.ca/37-monthly-meetings/6102-committee-of-the-whole-me
 eting.html
END:VEVENT
END:VCALENDAR
