BEGIN:VCALENDAR
VERSION:2.0
PRODID:-//https://www.digby.ca//NONSGML kigkonsult.se iCalcreator 2.29.29//
CALSCALE:GREGORIAN
METHOD:PUBLISH
UID:8e3b8a3c-e9f8-4196-b6eb-1debd493efc4
X-WR-CALNAME:JCal Pro Calendar
X-WR-CALDESC:Your online events calendar
X-WR-TIMEZONE:America/Halifax
BEGIN:VTIMEZONE
TZID:America/Halifax
BEGIN:STANDARD
TZNAME:AST
DTSTART:20251102T020000
TZOFFSETFROM:-0300
TZOFFSETTO:-0400
RDATE:20261101T020000
END:STANDARD
BEGIN:DAYLIGHT
TZNAME:ADT
DTSTART:20260308T020000
TZOFFSETFROM:-0400
TZOFFSETTO:-0300
RDATE:20270314T020000
END:DAYLIGHT
END:VTIMEZONE
BEGIN:VEVENT
UID:20240506T180000ADT-1125Ss7l1J@https://digby.ca/
DTSTAMP:20260419T204535Z
CATEGORIES:Council Meetings
DTSTART;TZID=America/Halifax:20240506T180000
DTEND;TZID=America/Halifax:20240506T200000
SUMMARY:Council Meeting
URL:https://www.digby.ca/36-council-meetings/6097-council-meeting.html
END:VEVENT
BEGIN:VEVENT
UID:20240521T180000ADT-7003v5zpRN@https://digby.ca/
DTSTAMP:20260419T204535Z
CATEGORIES:Monthly Meetings
DTSTART;TZID=America/Halifax:20240521T180000
DTEND;TZID=America/Halifax:20240521T200000
SUMMARY:Committee of the Whole Meeting
URL:https://www.digby.ca/37-monthly-meetings/6098-committee-of-the-whole-me
 eting.html
END:VEVENT
END:VCALENDAR
