BEGIN:VCALENDAR
VERSION:2.0
PRODID:-//https://www.digby.ca//NONSGML kigkonsult.se iCalcreator 2.29.29//
CALSCALE:GREGORIAN
METHOD:PUBLISH
UID:964a8a3a-4cde-4b66-aeb6-c3d96455872b
X-WR-CALNAME:JCal Pro Calendar
X-WR-CALDESC:Your online events calendar
X-WR-TIMEZONE:America/Halifax
BEGIN:VTIMEZONE
TZID:America/Halifax
BEGIN:STANDARD
TZNAME:AST
DTSTART:20251102T020000
TZOFFSETFROM:-0300
TZOFFSETTO:-0400
RDATE:20261101T020000
END:STANDARD
BEGIN:DAYLIGHT
TZNAME:ADT
DTSTART:20260308T020000
TZOFFSETFROM:-0400
TZOFFSETTO:-0300
RDATE:20270314T020000
END:DAYLIGHT
END:VTIMEZONE
BEGIN:VEVENT
UID:20240829T090000ADT-6588MbHSLZ@https://digby.ca/
DTSTAMP:20260419T163328Z
CATEGORIES:Special Events
DTSTART;TZID=America/Halifax:20240829T090000
DTEND;TZID=America/Halifax:20240901T220000
SUMMARY:Wharf Rat Rally
URL:https://www.digby.ca/38-special-events/6107-wharf-rat-rally.html
END:VEVENT
BEGIN:VEVENT
UID:20240903T180000ADT-9006achnah@https://digby.ca/
DTSTAMP:20260419T163328Z
CATEGORIES:Council Meetings
DTSTART;TZID=America/Halifax:20240903T180000
DTEND;TZID=America/Halifax:20240903T200000
SUMMARY:Council Meeting
URL:https://www.digby.ca/36-council-meetings/6110-council-meeting.html
END:VEVENT
BEGIN:VEVENT
UID:20240910T170000ADT-277233Vg8X@https://digby.ca/
DTSTAMP:20260419T163328Z
CATEGORIES:Special Events
DTSTART;TZID=America/Halifax:20240910T000000
DTEND;TZID=America/Halifax:20240910T235959
SUMMARY:Nomination Day
URL:https://www.digby.ca/38-special-events/6113-nomination-day.html
END:VEVENT
BEGIN:VEVENT
UID:20240915T140000ADT-4684W4jxID@https://digby.ca/
DTSTAMP:20260419T163328Z
CATEGORIES:Special Events
DTSTART;TZID=America/Halifax:20240915T140000
DTEND;TZID=America/Halifax:20240915T150000
SUMMARY:Fishermen's Memorial Service
URL:https://www.digby.ca/38-special-events/6112-fishermen-s-memorial-servic
 e.html
END:VEVENT
BEGIN:VEVENT
UID:20240916T180000ADT-0368WoswBH@https://digby.ca/
DTSTAMP:20260419T163328Z
CATEGORIES:Monthly Meetings
DTSTART;TZID=America/Halifax:20240916T180000
DTEND;TZID=America/Halifax:20240916T200000
SUMMARY:Committee of the Whole Meeting
URL:https://www.digby.ca/37-monthly-meetings/6111-committee-of-the-whole-me
 eting.html
END:VEVENT
END:VCALENDAR
