BEGIN:VCALENDAR
VERSION:2.0
PRODID:-//https://www.digby.ca//NONSGML kigkonsult.se iCalcreator 2.29.29//
CALSCALE:GREGORIAN
METHOD:PUBLISH
UID:7ecf1ae7-55e7-46dd-91c8-3e37a5529a04
X-WR-CALNAME:JCal Pro Calendar
X-WR-CALDESC:Your online events calendar
X-WR-TIMEZONE:America/Halifax
BEGIN:VTIMEZONE
TZID:America/Halifax
BEGIN:STANDARD
TZNAME:AST
DTSTART:20251102T020000
TZOFFSETFROM:-0300
TZOFFSETTO:-0400
RDATE:20261101T020000
END:STANDARD
BEGIN:DAYLIGHT
TZNAME:ADT
DTSTART:20260308T020000
TZOFFSETFROM:-0400
TZOFFSETTO:-0300
RDATE:20270314T020000
END:DAYLIGHT
END:VTIMEZONE
BEGIN:VEVENT
UID:20240806T180000ADT-3680JzBJ68@https://digby.ca/
DTSTAMP:20260419T145811Z
CATEGORIES:Council Meetings
DTSTART;TZID=America/Halifax:20240806T180000
DTEND;TZID=America/Halifax:20240806T200000
SUMMARY:Council Meeting
URL:https://www.digby.ca/36-council-meetings/6103-council-meeting.html
END:VEVENT
BEGIN:VEVENT
UID:20240808T080000ADT-86500KutsE@https://digby.ca/
DTSTAMP:20260419T145811Z
CATEGORIES:Special Events
DTSTART;TZID=America/Halifax:20240808T080000
DTEND;TZID=America/Halifax:20240811T220000
SUMMARY:Digby Scallop Days
URL:https://www.digby.ca/38-special-events/6106-digby-scallop-days.html
END:VEVENT
BEGIN:VEVENT
UID:20240819T180000ADT-39539Egzvj@https://digby.ca/
DTSTAMP:20260419T145811Z
CATEGORIES:Monthly Meetings
DTSTART;TZID=America/Halifax:20240819T180000
DTEND;TZID=America/Halifax:20240819T190000
SUMMARY:Committee of the Whole Meeting
URL:https://www.digby.ca/37-monthly-meetings/6104-committee-of-the-whole-me
 eting.html
END:VEVENT
BEGIN:VEVENT
UID:20240826T150000ADT-6537UDdUdM@https://digby.ca/
DTSTAMP:20260419T145811Z
CATEGORIES:Monthly Meetings
DTSTART;TZID=America/Halifax:20240826T150000
DTEND;TZID=America/Halifax:20240826T160000
SUMMARY:Committee of the Whole Meeting
URL:https://www.digby.ca/37-monthly-meetings/6116-committee-of-the-whole-me
 eting.html
END:VEVENT
BEGIN:VEVENT
UID:20240829T090000ADT-6588MbHSLZ@https://digby.ca/
DTSTAMP:20260419T145811Z
CATEGORIES:Special Events
DTSTART;TZID=America/Halifax:20240829T090000
DTEND;TZID=America/Halifax:20240901T220000
SUMMARY:Wharf Rat Rally
URL:https://www.digby.ca/38-special-events/6107-wharf-rat-rally.html
END:VEVENT
END:VCALENDAR
