BEGIN:VCALENDAR
VERSION:2.0
PRODID:-//https://www.digby.ca//NONSGML kigkonsult.se iCalcreator 2.29.29//
CALSCALE:GREGORIAN
METHOD:PUBLISH
UID:6db013f3-fff5-4e37-bb21-c81d387caeea
X-WR-CALNAME:JCal Pro Calendar
X-WR-CALDESC:Your online events calendar
X-WR-TIMEZONE:America/Halifax
BEGIN:VTIMEZONE
TZID:America/Halifax
BEGIN:STANDARD
TZNAME:AST
DTSTART:20251102T020000
TZOFFSETFROM:-0300
TZOFFSETTO:-0400
RDATE:20261101T020000
END:STANDARD
BEGIN:DAYLIGHT
TZNAME:ADT
DTSTART:20260308T020000
TZOFFSETFROM:-0400
TZOFFSETTO:-0300
RDATE:20270314T020000
END:DAYLIGHT
END:VTIMEZONE
BEGIN:VEVENT
UID:20230206T160000AST-8376njMevr@https://digby.ca/
DTSTAMP:20260420T061004Z
CATEGORIES:Council Meetings
DTSTART;TZID=America/Halifax:20230206T180000
DTEND;TZID=America/Halifax:20230206T200000
RRULE:FREQ=MONTHLY;COUNT=12;INTERVAL=1;BYDAY=MO;BYSETPOS=1
SUMMARY:Council meeting
URL:https://www.digby.ca/36-council-meetings/6066-council-meeting.html
END:VEVENT
BEGIN:VEVENT
UID:20230116T160000AST-3786J4b4u8@https://digby.ca/
DTSTAMP:20260420T061004Z
CATEGORIES:Monthly Meetings
DTSTART;TZID=America/Halifax:20230116T180000
DTEND;TZID=America/Halifax:20230116T200000
RRULE:FREQ=MONTHLY;COUNT=12;INTERVAL=1;BYDAY=MO;BYSETPOS=3
SUMMARY:Committee of the whole
URL:https://www.digby.ca/37-monthly-meetings/6040-committee-of-the-whole.ht
 ml
END:VEVENT
BEGIN:VEVENT
UID:20230117T120000AST-41880uuxBN@https://digby.ca/
DTSTAMP:20260420T061004Z
CATEGORIES:Monthly Meetings
DTSTART;TZID=America/Halifax:20230117T120000
DTEND;TZID=America/Halifax:20230117T130000
RRULE:FREQ=MONTHLY;COUNT=12;INTERVAL=1;BYDAY=TU;BYSETPOS=3
SUMMARY:Digby Water Commission
URL:https://www.digby.ca/37-monthly-meetings/6054-digby-water-commission.ht
 ml
END:VEVENT
END:VCALENDAR
