BEGIN:VCALENDAR
VERSION:2.0
PRODID:-//https://www.digby.ca//NONSGML kigkonsult.se iCalcreator 2.29.29//
CALSCALE:GREGORIAN
METHOD:PUBLISH
UID:98fa0c7b-5fb3-4b3d-8ac5-1f893c6cc197
X-WR-CALNAME:JCal Pro Calendar
X-WR-CALDESC:Your online events calendar
X-WR-TIMEZONE:America/Halifax
BEGIN:VTIMEZONE
TZID:America/Halifax
BEGIN:STANDARD
TZNAME:AST
DTSTART:20251102T020000
TZOFFSETFROM:-0300
TZOFFSETTO:-0400
RDATE:20261101T020000
END:STANDARD
BEGIN:DAYLIGHT
TZNAME:ADT
DTSTART:20260308T020000
TZOFFSETFROM:-0400
TZOFFSETTO:-0300
RDATE:20270314T020000
END:DAYLIGHT
END:VTIMEZONE
BEGIN:VEVENT
UID:20240808T080000ADT-86500KutsE@https://digby.ca/
DTSTAMP:20260419T150029Z
CATEGORIES:Special Events
DTSTART;TZID=America/Halifax:20240808T080000
DTEND;TZID=America/Halifax:20240811T220000
SUMMARY:Digby Scallop Days
URL:https://www.digby.ca/38-special-events/6106-digby-scallop-days.html
END:VEVENT
END:VCALENDAR
