BEGIN:VCALENDAR
VERSION:2.0
PRODID:-//https://www.digby.ca//NONSGML kigkonsult.se iCalcreator 2.29.29//
CALSCALE:GREGORIAN
METHOD:PUBLISH
UID:46b9d9a2-f2f2-414a-9984-7cb46e21a84b
X-WR-CALNAME:JCal Pro Calendar
X-WR-CALDESC:Your online events calendar
X-WR-TIMEZONE:America/Halifax
BEGIN:VTIMEZONE
TZID:America/Halifax
BEGIN:STANDARD
TZNAME:AST
DTSTART:20251102T020000
TZOFFSETFROM:-0300
TZOFFSETTO:-0400
RDATE:20261101T020000
END:STANDARD
BEGIN:DAYLIGHT
TZNAME:ADT
DTSTART:20260308T020000
TZOFFSETFROM:-0400
TZOFFSETTO:-0300
RDATE:20270314T020000
END:DAYLIGHT
END:VTIMEZONE
BEGIN:VEVENT
UID:20200420T180000ADT-58635Xmp7h@https://digby.ca/
DTSTAMP:20260420T121208Z
CATEGORIES:Monthly Meetings
DTSTART;TZID=America/Halifax:20200420T180000
DTEND;TZID=America/Halifax:20200420T190000
SUMMARY:Committee of the Whole Meeting
URL:https://www.digby.ca/37-monthly-meetings/5936-committee-of-the-whole-me
 eting.html
END:VEVENT
END:VCALENDAR
