BEGIN:VCALENDAR
VERSION:2.0
PRODID:-//https://www.digby.ca//NONSGML kigkonsult.se iCalcreator 2.29.29//
CALSCALE:GREGORIAN
METHOD:PUBLISH
UID:7d86a59c-6572-45c9-a081-f3f4577069ce
X-WR-CALNAME:JCal Pro Calendar
X-WR-CALDESC:Your online events calendar
X-WR-TIMEZONE:America/Halifax
BEGIN:VTIMEZONE
TZID:America/Halifax
BEGIN:STANDARD
TZNAME:AST
DTSTART:20251102T020000
TZOFFSETFROM:-0300
TZOFFSETTO:-0400
RDATE:20261101T020000
END:STANDARD
BEGIN:DAYLIGHT
TZNAME:ADT
DTSTART:20260308T020000
TZOFFSETFROM:-0400
TZOFFSETTO:-0300
RDATE:20270314T020000
END:DAYLIGHT
END:VTIMEZONE
BEGIN:VEVENT
UID:20170604T150000UTC-924083@http://localhost:8888/digbytown/
DTSTAMP:20260423T234113Z
CATEGORIES:Special Events
DTSTART;TZID=America/Halifax:20170624T120000
DTEND;TZID=America/Halifax:20170624T180000
RRULE:FREQ=DAILY;COUNT=2;INTERVAL=1
SUMMARY:Relay For Life
URL:https://www.digby.ca/38-special-events/5805-relay-for-life.html
END:VEVENT
BEGIN:VEVENT
UID:20170723T170000UTC-326c11@http://digbytown.mwvdev.info/
DTSTAMP:20260423T234113Z
CATEGORIES:Special Events
DESCRIPTION:<p>Date: Sunday July 23\, 2017</p>\n<p>Time: 1st Seating 2:00 t
 o 3:00 PM</p>\n<p>2nd Seating 3:00 to 4:00 PM</p>\n<p>Location: 95 Montagu
 e Row\, Digby</p>
DTSTART;TZID=America/Halifax:20170723T140000
DTEND;TZID=America/Halifax:20170723T150000
SUMMARY:Heritage Tea - Admiral Digby Museum
URL:https://www.digby.ca/38-special-events/5808-heritage-tea-admiral-digby-
 museum.html
X-ALT-DESC;FMTTYPE=TEXT/HTML:<p>Date: Sunday July 23\, 2017</p>\n<p>Time: 1
 st Seating 2:00 to 3:00 PM</p>\n<p>2nd Seating 3:00 to 4:00 PM</p>\n<p>Loc
 ation: 95 Montague Row\, Digby</p>
END:VEVENT
BEGIN:VEVENT
UID:20180125T170000UTC-36d53f@https://digby.ca/
DTSTAMP:20260423T234113Z
CATEGORIES:Special Events
DESCRIPTION:<p>Digby Heritage Center </p>
DTSTART;TZID=America/Halifax:20180125T130000
DTEND;TZID=America/Halifax:20180125T140000
SUMMARY:African Heritage Month Launch
URL:https://www.digby.ca/38-special-events/5849-african-heritage-month-laun
 ch.html
X-ALT-DESC;FMTTYPE=TEXT/HTML:<p>Digby Heritage Center </p>
END:VEVENT
BEGIN:VEVENT
UID:20180622T110000ADT-9800jPjV1e@https://digby.ca/
DTSTAMP:20260423T234113Z
CATEGORIES:Special Events
DTSTART;TZID=America/Halifax:20180622T110000
DTEND;TZID=America/Halifax:20180622T120000
SUMMARY:Joe Casey Award Ceremony
URL:https://www.digby.ca/38-special-events/5850-joe-casey-award-ceremony.ht
 ml
END:VEVENT
BEGIN:VEVENT
UID:20180629T100000ADT-5568deaSvT@https://digby.ca/
DTSTAMP:20260423T234113Z
CATEGORIES:Special Events
DESCRIPTION:<p><a href='http://lobsterbash.blogspot.ca/'>http://lobsterbash
 .blogspot.ca/</a> </p>
DTSTART;TZID=America/Halifax:20180629T100000
DTEND;TZID=America/Halifax:20180701T115700
SUMMARY:Lobster Bash Festival
URL:https://www.digby.ca/38-special-events/5851-lobster-bash-festival.html
X-ALT-DESC;FMTTYPE=TEXT/HTML:<p><a href='http://lobsterbash.blogspot.ca/'>h
 ttp://lobsterbash.blogspot.ca/</a> </p>
END:VEVENT
BEGIN:VEVENT
UID:20180809T110000ADT-6183sWmD4F@https://digby.ca/
DTSTAMP:20260423T234113Z
CATEGORIES:Special Events
DESCRIPTION:<p><a href='http://www.digbyscallopdays.ca/'>http://www.digbysc
 allopdays.ca/</a> </p>
DTSTART;TZID=America/Halifax:20180809T110000
DTEND;TZID=America/Halifax:20180812T220000
SUMMARY:Digby Scallop Days Festival
URL:https://www.digby.ca/38-special-events/5852-digby-scallop-days-festival
 .html
X-ALT-DESC;FMTTYPE=TEXT/HTML:<p><a href='http://www.digbyscallopdays.ca/'>h
 ttp://www.digbyscallopdays.ca/</a> </p>
END:VEVENT
BEGIN:VEVENT
UID:20180829T120000ADT-9544H3S1Js@https://digby.ca/
DTSTAMP:20260423T234113Z
CATEGORIES:Special Events
DESCRIPTION:<p><a href='http://www.wharfratrally.com/'>http://www.wharfratr
 ally.com/</a> </p>
DTSTART;TZID=America/Halifax:20180829T120000
DTEND;TZID=America/Halifax:20180902T230000
SUMMARY:Wharf Rat Rally
URL:https://www.digby.ca/38-special-events/5853-wharf-rat-rally.html
X-ALT-DESC;FMTTYPE=TEXT/HTML:<p><a href='http://www.wharfratrally.com/'>htt
 p://www.wharfratrally.com/</a> </p>
END:VEVENT
BEGIN:VEVENT
UID:20190124T130000AST-7696K5CepI@https://digby.ca/
DTSTAMP:20260423T234113Z
CATEGORIES:Special Events
DESCRIPTION:<p>7 Birch Street\, Digby Heritage Center</p>
DTSTART;TZID=America/Halifax:20190124T130000
DTEND;TZID=America/Halifax:20190124T140000
SUMMARY:African Hertiage Month Launch
URL:https://www.digby.ca/38-special-events/5857-african-hertiage-month-laun
 ch.html
X-ALT-DESC;FMTTYPE=TEXT/HTML:<p>7 Birch Street\, Digby Heritage Center</p>
END:VEVENT
BEGIN:VEVENT
UID:20190621T110000ADT-2049vtXF6P@https://digby.ca/
DTSTAMP:20260423T234113Z
CATEGORIES:Special Events
DTSTART;TZID=America/Halifax:20190621T110000
DTEND;TZID=America/Halifax:20190621T120000
SUMMARY:Annual Joe Casey Award Ceremony
URL:https://www.digby.ca/38-special-events/5918-annual-joe-casey-award-cere
 mony.html
END:VEVENT
BEGIN:VEVENT
UID:20230701T113000ADT-4719h9WaEa@https://digby.ca/
DTSTAMP:20260423T234113Z
CATEGORIES:Special Events
DTSTART;TZID=America/Halifax:20230701T113000
DTEND;TZID=America/Halifax:20230701T133000
SUMMARY:Canada Day in Digby
URL:https://www.digby.ca/38-special-events/6089-canada-day-in-digby.html
END:VEVENT
BEGIN:VEVENT
UID:20240705T090000ADT-0250upNrHS@https://digby.ca/
DTSTAMP:20260423T234113Z
CATEGORIES:Special Events
DTSTART;TZID=America/Halifax:20240705T090000
DTEND;TZID=America/Halifax:20240707T220000
SUMMARY:Lobster bash festival
URL:https://www.digby.ca/38-special-events/6105-lobster-bash-festival.html
END:VEVENT
BEGIN:VEVENT
UID:20240808T080000ADT-86500KutsE@https://digby.ca/
DTSTAMP:20260423T234113Z
CATEGORIES:Special Events
DTSTART;TZID=America/Halifax:20240808T080000
DTEND;TZID=America/Halifax:20240811T220000
SUMMARY:Digby Scallop Days
URL:https://www.digby.ca/38-special-events/6106-digby-scallop-days.html
END:VEVENT
BEGIN:VEVENT
UID:20240829T090000ADT-6588MbHSLZ@https://digby.ca/
DTSTAMP:20260423T234113Z
CATEGORIES:Special Events
DTSTART;TZID=America/Halifax:20240829T090000
DTEND;TZID=America/Halifax:20240901T220000
SUMMARY:Wharf Rat Rally
URL:https://www.digby.ca/38-special-events/6107-wharf-rat-rally.html
END:VEVENT
BEGIN:VEVENT
UID:20240910T170000ADT-277233Vg8X@https://digby.ca/
DTSTAMP:20260423T234113Z
CATEGORIES:Special Events
DTSTART;TZID=America/Halifax:20240910T000000
DTEND;TZID=America/Halifax:20240910T235959
SUMMARY:Nomination Day
URL:https://www.digby.ca/38-special-events/6113-nomination-day.html
END:VEVENT
BEGIN:VEVENT
UID:20240915T140000ADT-4684W4jxID@https://digby.ca/
DTSTAMP:20260423T234113Z
CATEGORIES:Special Events
DTSTART;TZID=America/Halifax:20240915T140000
DTEND;TZID=America/Halifax:20240915T150000
SUMMARY:Fishermen's Memorial Service
URL:https://www.digby.ca/38-special-events/6112-fishermen-s-memorial-servic
 e.html
END:VEVENT
BEGIN:VEVENT
UID:20241012T090000ADT-9590U8UoGA@https://digby.ca/
DTSTAMP:20260423T234113Z
CATEGORIES:Special Events
DTSTART;TZID=America/Halifax:20241012T090000
DTEND;TZID=America/Halifax:20241019T000000
SUMMARY:Advance Polling Beings
URL:https://www.digby.ca/38-special-events/6115-advance-polling-beings.html
END:VEVENT
BEGIN:VEVENT
UID:20241019T090000ADT-7670r7MHPU@https://digby.ca/
DTSTAMP:20260423T234113Z
CATEGORIES:Special Events
DTSTART;TZID=America/Halifax:20241019T090000
DTEND;TZID=America/Halifax:20241019T100000
SUMMARY:2024 Municipal Election
URL:https://www.digby.ca/38-special-events/6109-2024-municipal-election.htm
 l
END:VEVENT
BEGIN:VEVENT
UID:20250123T130000AST-01792uPUJ1@https://digby.ca/
DTSTAMP:20260423T234113Z
CATEGORIES:Special Events
DESCRIPTION:<p>All are welcome and encouraged to attend&nbsp\; Location wil
 l be 7 Birch Street (Digby Station)</p>
DTSTART;TZID=America/Halifax:20250123T130000
DTEND;TZID=America/Halifax:20250123T140000
SUMMARY:African Heritage Month Launch Event
URL:https://www.digby.ca/38-special-events/6134-african-heritage-month-laun
 ch-event.html
X-ALT-DESC;FMTTYPE=TEXT/HTML:<p>All are welcome and encouraged to attend&nb
 sp\; Location will be 7 Birch Street (Digby Station)</p>
END:VEVENT
BEGIN:VEVENT
UID:20250210T180000AST-0665gRvvTm@https://digby.ca/
DTSTAMP:20260423T234113Z
CATEGORIES:Special Events
DTSTART;TZID=America/Halifax:20250210T180000
DTEND;TZID=America/Halifax:20250210T200000
SUMMARY:Planning Advisory Committee Meeting
URL:https://www.digby.ca/38-special-events/6137-planning-advisory-committee
 -meeting.html
END:VEVENT
BEGIN:VEVENT
UID:20250527T180000ADT-24006UGklH@https://digby.ca/
DTSTAMP:20260423T234113Z
CATEGORIES:Special Events
DTSTART;TZID=America/Halifax:20250527T180000
DTEND;TZID=America/Halifax:20250527T200000
SUMMARY:Planning Advisory Committee Meeting
URL:https://www.digby.ca/38-special-events/6143-planning-advisory-committee
 -meeting.html
END:VEVENT
BEGIN:VEVENT
UID:20250626T180000ADT-5072iBUfMV@https://digby.ca/
DTSTAMP:20260423T234113Z
CATEGORIES:Special Events
DTSTART;TZID=America/Halifax:20250626T180000
DTEND;TZID=America/Halifax:20250626T200000
SUMMARY:Planning Advisory Committee Meeting
URL:https://www.digby.ca/38-special-events/6144-planning-advisory-committee
 -meeting.html
END:VEVENT
BEGIN:VEVENT
UID:20250701T150000ADT-1275Ex2wHV@https://digby.ca/
DTSTAMP:20260423T234113Z
CATEGORIES:Special Events
DTSTART;TZID=America/Halifax:20250701T113000
DTEND;TZID=America/Halifax:20250701T143000
SUMMARY:Canada Day Celebrations at Fishermen's Memorial Park Maiden Lane
URL:https://www.digby.ca/38-special-events/6152-canada-day-celebrations-at-
 fishermen-s-memorial-park-maiden-lane.html
END:VEVENT
BEGIN:VEVENT
UID:20250722T180000ADT-4456Uu9J6r@https://digby.ca/
DTSTAMP:20260423T234113Z
CATEGORIES:Special Events
DTSTART;TZID=America/Halifax:20250722T180000
DTEND;TZID=America/Halifax:20250722T200000
SUMMARY:Planning Advisory Committee Meeting
URL:https://www.digby.ca/38-special-events/6145-planning-advisory-committee
 -meeting.html
END:VEVENT
END:VCALENDAR
