BEGIN:VCALENDAR
VERSION:2.0
PRODID:-//https://www.digby.ca//NONSGML kigkonsult.se iCalcreator 2.29.29//
CALSCALE:GREGORIAN
METHOD:PUBLISH
UID:2a02fe9a-7eac-4ab6-a341-86cdbe8c0f2f
X-WR-CALNAME:JCal Pro Calendar
X-WR-CALDESC:Your online events calendar
X-WR-TIMEZONE:America/Halifax
BEGIN:VTIMEZONE
TZID:America/Halifax
BEGIN:STANDARD
TZNAME:AST
DTSTART:20251102T020000
TZOFFSETFROM:-0300
TZOFFSETTO:-0400
RDATE:20261101T020000
END:STANDARD
BEGIN:DAYLIGHT
TZNAME:ADT
DTSTART:20260308T020000
TZOFFSETFROM:-0400
TZOFFSETTO:-0300
RDATE:20270314T020000
END:DAYLIGHT
END:VTIMEZONE
BEGIN:VEVENT
UID:20201020T120000ADT-0282g144A7@https://digby.ca/
DTSTAMP:20260424T010509Z
CATEGORIES:Monthly Meetings
DTSTART;TZID=America/Halifax:20201020T120000
DTEND;TZID=America/Halifax:20201020T130000
RRULE:FREQ=MONTHLY;UNTIL=20210922T030000Z;INTERVAL=1;BYDAY=TU;BYSETPOS=3
SUMMARY:Digby Water Commission
URL:https://www.digby.ca/37-monthly-meetings/5976-digby-water-commission.ht
 ml
END:VEVENT
BEGIN:VEVENT
UID:20201019T180000ADT-8879Jjr72v@https://digby.ca/
DTSTAMP:20260424T010509Z
CATEGORIES:Monthly Meetings
DTSTART;TZID=America/Halifax:20201019T180000
DTEND;TZID=America/Halifax:20201019T200000
RRULE:FREQ=MONTHLY;UNTIL=20210922T030000Z;INTERVAL=1;BYDAY=MO;BYSETPOS=3
SUMMARY:Committee of the Whole
URL:https://www.digby.ca/37-monthly-meetings/5942-committee-of-the-whole.ht
 ml
END:VEVENT
BEGIN:VEVENT
UID:20211018T180000ADT-35300pVbvZ@https://digby.ca/
DTSTAMP:20260424T010509Z
CATEGORIES:Monthly Meetings
DTSTART;TZID=America/Halifax:20211018T180000
DTEND;TZID=America/Halifax:20211018T200000
SUMMARY:Committee of the Whole Meeting
URL:https://www.digby.ca/37-monthly-meetings/5989-committee-of-the-whole-me
 eting.html
END:VEVENT
BEGIN:VEVENT
UID:20211018T120000ADT-0963Ze224S@https://digby.ca/
DTSTAMP:20260424T010509Z
CATEGORIES:Monthly Meetings
DTSTART;TZID=America/Halifax:20211019T120000
DTEND;TZID=America/Halifax:20211019T130000
SUMMARY:Digby Water Commission Meeting
URL:https://www.digby.ca/37-monthly-meetings/5990-digby-water-commission-me
 eting.html
END:VEVENT
BEGIN:VEVENT
UID:20211115T180000AST-9017PvjfKR@https://digby.ca/
DTSTAMP:20260424T010509Z
CATEGORIES:Monthly Meetings
DTSTART;TZID=America/Halifax:20211115T180000
DTEND;TZID=America/Halifax:20211115T190000
SUMMARY:Committee of the Whole Meeting
URL:https://www.digby.ca/37-monthly-meetings/5992-committee-of-the-whole-me
 eting.html
END:VEVENT
BEGIN:VEVENT
UID:20211116T120000AST-5783ddf4M5@https://digby.ca/
DTSTAMP:20260424T010509Z
CATEGORIES:Monthly Meetings
DTSTART;TZID=America/Halifax:20211116T120000
DTEND;TZID=America/Halifax:20211116T130000
SUMMARY:Digby Water Commission Meeting
URL:https://www.digby.ca/37-monthly-meetings/5993-digby-water-commission-me
 eting.html
END:VEVENT
BEGIN:VEVENT
UID:20211220T180000AST-39150FXPVp@https://digby.ca/
DTSTAMP:20260424T010509Z
CATEGORIES:Monthly Meetings
DTSTART;TZID=America/Halifax:20211220T180000
DTEND;TZID=America/Halifax:20211220T200000
SUMMARY:Committee of the Whole Meeting
URL:https://www.digby.ca/37-monthly-meetings/5995-committee-of-the-whole-me
 eting.html
END:VEVENT
BEGIN:VEVENT
UID:20220117T180000AST-6894vm0cg5@https://digby.ca/
DTSTAMP:20260424T010509Z
CATEGORIES:Monthly Meetings
DTSTART;TZID=America/Halifax:20220117T180000
DTEND;TZID=America/Halifax:20220117T200000
SUMMARY:Committee of the Whole Meeting
URL:https://www.digby.ca/37-monthly-meetings/5997-committee-of-the-whole-me
 eting.html
END:VEVENT
BEGIN:VEVENT
UID:20220118T120000AST-31646VUumG@https://digby.ca/
DTSTAMP:20260424T010509Z
CATEGORIES:Monthly Meetings
DTSTART;TZID=America/Halifax:20220118T120000
DTEND;TZID=America/Halifax:20220118T130000
SUMMARY:Digby Water Commission
URL:https://www.digby.ca/37-monthly-meetings/5998-digby-water-commission.ht
 ml
END:VEVENT
BEGIN:VEVENT
UID:20220215T120000AST-2020h75gCa@https://digby.ca/
DTSTAMP:20260424T010509Z
CATEGORIES:Monthly Meetings
DTSTART;TZID=America/Halifax:20220215T120000
DTEND;TZID=America/Halifax:20220215T130000
SUMMARY:Digby Water Commission Meeting
URL:https://www.digby.ca/37-monthly-meetings/6004-digby-water-commission-me
 eting.html
END:VEVENT
BEGIN:VEVENT
UID:20220222T180000AST-3532Eb6ODz@https://digby.ca/
DTSTAMP:20260424T010509Z
CATEGORIES:Monthly Meetings
DTSTART;TZID=America/Halifax:20220222T180000
DTEND;TZID=America/Halifax:20220222T200000
SUMMARY:Committee of the Whole Meeting
URL:https://www.digby.ca/37-monthly-meetings/6000-committee-of-the-whole-me
 eting.html
END:VEVENT
BEGIN:VEVENT
UID:20220315T120000ADT-9797GbHTPv@https://digby.ca/
DTSTAMP:20260424T010509Z
CATEGORIES:Monthly Meetings
DTSTART;TZID=America/Halifax:20220315T120000
DTEND;TZID=America/Halifax:20220315T130000
SUMMARY:Digby Water Commission Meeting
URL:https://www.digby.ca/37-monthly-meetings/6003-digby-water-commission-me
 eting.html
END:VEVENT
BEGIN:VEVENT
UID:20220321T180000ADT-02935D6fuM@https://digby.ca/
DTSTAMP:20260424T010509Z
CATEGORIES:Monthly Meetings
DTSTART;TZID=America/Halifax:20220321T180000
DTEND;TZID=America/Halifax:20220321T200000
SUMMARY:Committee of the Whole Meeting
URL:https://www.digby.ca/37-monthly-meetings/6002-committee-of-the-whole-me
 eting.html
END:VEVENT
BEGIN:VEVENT
UID:20220419T120000ADT-7431tu4Xa3@https://digby.ca/
DTSTAMP:20260424T010509Z
CATEGORIES:Monthly Meetings
DTSTART;TZID=America/Halifax:20220419T120000
DTEND;TZID=America/Halifax:20220419T130000
SUMMARY:Digby Water Commission
URL:https://www.digby.ca/37-monthly-meetings/6006-digby-water-commission.ht
 ml
END:VEVENT
BEGIN:VEVENT
UID:20220419T180000ADT-7720IIFV6P@https://digby.ca/
DTSTAMP:20260424T010509Z
CATEGORIES:Monthly Meetings
DTSTART;TZID=America/Halifax:20220419T180000
DTEND;TZID=America/Halifax:20220419T200000
SUMMARY:Committee of the Whole Meeting
URL:https://www.digby.ca/37-monthly-meetings/6007-committee-of-the-whole-me
 eting.html
END:VEVENT
BEGIN:VEVENT
UID:20220516T180000ADT-7538AuvVGc@https://digby.ca/
DTSTAMP:20260424T010509Z
CATEGORIES:Monthly Meetings
DTSTART;TZID=America/Halifax:20220516T180000
DTEND;TZID=America/Halifax:20220516T200000
SUMMARY:Committee of the Whole Meeting
URL:https://www.digby.ca/37-monthly-meetings/6009-committee-of-the-whole-me
 eting.html
END:VEVENT
BEGIN:VEVENT
UID:20220517T180000ADT-4657UuXu0i@https://digby.ca/
DTSTAMP:20260424T010509Z
CATEGORIES:Monthly Meetings
DTSTART;TZID=America/Halifax:20220517T180000
DTEND;TZID=America/Halifax:20220517T200000
SUMMARY:Digby Water Commission Meeting
URL:https://www.digby.ca/37-monthly-meetings/6010-digby-water-commission-me
 eting.html
END:VEVENT
BEGIN:VEVENT
UID:20220620T180000ADT-0717F1VLZs@https://digby.ca/
DTSTAMP:20260424T010509Z
CATEGORIES:Monthly Meetings
DTSTART;TZID=America/Halifax:20220620T180000
DTEND;TZID=America/Halifax:20220620T200000
SUMMARY:Committee of the Whole Meeting
URL:https://www.digby.ca/37-monthly-meetings/6012-committee-of-the-whole-me
 eting.html
END:VEVENT
BEGIN:VEVENT
UID:20220621T120000ADT-9560sU2u9c@https://digby.ca/
DTSTAMP:20260424T010509Z
CATEGORIES:Monthly Meetings
DTSTART;TZID=America/Halifax:20220621T120000
DTEND;TZID=America/Halifax:20220621T130000
SUMMARY:Digby Water Commission Meeting
URL:https://www.digby.ca/37-monthly-meetings/6013-digby-water-commission-me
 eting.html
END:VEVENT
BEGIN:VEVENT
UID:20220718T180000ADT-1526lOxktV@https://digby.ca/
DTSTAMP:20260424T010509Z
CATEGORIES:Monthly Meetings
DTSTART;TZID=America/Halifax:20220718T180000
DTEND;TZID=America/Halifax:20220718T200000
SUMMARY:Committee of the Whole Meeting
URL:https://www.digby.ca/37-monthly-meetings/6016-committee-of-the-whole-me
 eting.html
END:VEVENT
BEGIN:VEVENT
UID:20220719T120000ADT-3834DXs5Wd@https://digby.ca/
DTSTAMP:20260424T010509Z
CATEGORIES:Monthly Meetings
DTSTART;TZID=America/Halifax:20220719T120000
DTEND;TZID=America/Halifax:20220719T130000
RRULE:FREQ=MONTHLY;COUNT=6;INTERVAL=1;BYDAY=TU;BYSETPOS=3
SUMMARY:Digby Water Commission
URL:https://www.digby.ca/37-monthly-meetings/6017-digby-water-commission.ht
 ml
END:VEVENT
BEGIN:VEVENT
UID:20220816T180000ADT-6040faU8I1@https://digby.ca/
DTSTAMP:20260424T010509Z
CATEGORIES:Monthly Meetings
DTSTART;TZID=America/Halifax:20220815T180000
DTEND;TZID=America/Halifax:20220815T200000
SUMMARY:Committee of the Whole Meeting
URL:https://www.digby.ca/37-monthly-meetings/6024-committee-of-the-whole-me
 eting.html
END:VEVENT
BEGIN:VEVENT
UID:20220919T180000ADT-8119vvVwRx@https://digby.ca/
DTSTAMP:20260424T010509Z
CATEGORIES:Monthly Meetings
DTSTART;TZID=America/Halifax:20220919T180000
DTEND;TZID=America/Halifax:20220919T200000
SUMMARY:Committee of the Whole Meeting
URL:https://www.digby.ca/37-monthly-meetings/6026-committee-of-the-whole-me
 eting.html
END:VEVENT
BEGIN:VEVENT
UID:20230116T160000AST-3786J4b4u8@https://digby.ca/
DTSTAMP:20260424T010509Z
CATEGORIES:Monthly Meetings
DTSTART;TZID=America/Halifax:20230116T180000
DTEND;TZID=America/Halifax:20230116T200000
RRULE:FREQ=MONTHLY;COUNT=12;INTERVAL=1;BYDAY=MO;BYSETPOS=3
SUMMARY:Committee of the whole
URL:https://www.digby.ca/37-monthly-meetings/6040-committee-of-the-whole.ht
 ml
END:VEVENT
END:VCALENDAR
