BEGIN:VCALENDAR
VERSION:2.0
PRODID:-//https://www.digby.ca//NONSGML kigkonsult.se iCalcreator 2.29.29//
CALSCALE:GREGORIAN
METHOD:PUBLISH
UID:7724e66d-1239-46a0-9ab2-5185a7f9a141
X-WR-CALNAME:JCal Pro Calendar
X-WR-CALDESC:Your online events calendar
X-WR-TIMEZONE:America/Halifax
BEGIN:VTIMEZONE
TZID:America/Halifax
BEGIN:STANDARD
TZNAME:AST
DTSTART:20251102T020000
TZOFFSETFROM:-0300
TZOFFSETTO:-0400
RDATE:20261101T020000
END:STANDARD
BEGIN:DAYLIGHT
TZNAME:ADT
DTSTART:20260308T020000
TZOFFSETFROM:-0400
TZOFFSETTO:-0300
RDATE:20270314T020000
END:DAYLIGHT
END:VTIMEZONE
BEGIN:VEVENT
UID:20230117T120000AST-41880uuxBN@https://digby.ca/
DTSTAMP:20260424T024443Z
CATEGORIES:Monthly Meetings
DTSTART;TZID=America/Halifax:20230117T120000
DTEND;TZID=America/Halifax:20230117T130000
RRULE:FREQ=MONTHLY;COUNT=12;INTERVAL=1;BYDAY=TU;BYSETPOS=3
SUMMARY:Digby Water Commission
URL:https://www.digby.ca/37-monthly-meetings/6054-digby-water-commission.ht
 ml
END:VEVENT
BEGIN:VEVENT
UID:20230116T160000AST-3786J4b4u8@https://digby.ca/
DTSTAMP:20260424T024443Z
CATEGORIES:Monthly Meetings
DTSTART;TZID=America/Halifax:20230221T180000
DTEND;TZID=America/Halifax:20230221T200000
SUMMARY:Committee of the whole
URL:https://www.digby.ca/37-monthly-meetings/6043-committee-of-the-whole.ht
 ml
END:VEVENT
BEGIN:VEVENT
UID:20230116T160000AST-3786J4b4u8@https://digby.ca/
DTSTAMP:20260424T024443Z
CATEGORIES:Monthly Meetings
DTSTART;TZID=America/Halifax:20230116T180000
DTEND;TZID=America/Halifax:20230116T200000
EXDATE;TZID=America/Halifax:20230221T180000
RRULE:FREQ=MONTHLY;COUNT=12;INTERVAL=1;BYDAY=MO;BYSETPOS=3
SUMMARY:Committee of the whole
URL:https://www.digby.ca/37-monthly-meetings/6040-committee-of-the-whole.ht
 ml
END:VEVENT
BEGIN:VEVENT
UID:20240115T180000AST-8905UVVFVH@https://digby.ca/
DTSTAMP:20260424T024443Z
CATEGORIES:Monthly Meetings
DTSTART;TZID=America/Halifax:20240115T180000
DTEND;TZID=America/Halifax:20240115T200000
SUMMARY:Committee of the Whole Meeting
URL:https://www.digby.ca/37-monthly-meetings/6090-committee-of-the-whole-me
 eting.html
END:VEVENT
BEGIN:VEVENT
UID:20240220T180000AST-8735ov9z7L@https://digby.ca/
DTSTAMP:20260424T024443Z
CATEGORIES:Monthly Meetings
DTSTART;TZID=America/Halifax:20240220T180000
DTEND;TZID=America/Halifax:20240220T200000
SUMMARY:Committee of the Whole Meeting
URL:https://www.digby.ca/37-monthly-meetings/6092-committee-of-the-whole-me
 eting.html
END:VEVENT
BEGIN:VEVENT
UID:20240318T180000ADT-1562hDrnDC@https://digby.ca/
DTSTAMP:20260424T024443Z
CATEGORIES:Monthly Meetings
DTSTART;TZID=America/Halifax:20240318T180000
DTEND;TZID=America/Halifax:20240318T200000
SUMMARY:Committee of the Whole Meeting
URL:https://www.digby.ca/37-monthly-meetings/6094-committee-of-the-whole-me
 eting.html
END:VEVENT
BEGIN:VEVENT
UID:20240415T180000ADT-7113ODSnoj@https://digby.ca/
DTSTAMP:20260424T024443Z
CATEGORIES:Monthly Meetings
DTSTART;TZID=America/Halifax:20240415T180000
DTEND;TZID=America/Halifax:20240415T190000
SUMMARY:Committee of the Whole Meeting
URL:https://www.digby.ca/37-monthly-meetings/6096-committee-of-the-whole-me
 eting.html
END:VEVENT
BEGIN:VEVENT
UID:20240521T180000ADT-7003v5zpRN@https://digby.ca/
DTSTAMP:20260424T024443Z
CATEGORIES:Monthly Meetings
DTSTART;TZID=America/Halifax:20240521T180000
DTEND;TZID=America/Halifax:20240521T200000
SUMMARY:Committee of the Whole Meeting
URL:https://www.digby.ca/37-monthly-meetings/6098-committee-of-the-whole-me
 eting.html
END:VEVENT
BEGIN:VEVENT
UID:20240617T180000ADT-1172GLIDvr@https://digby.ca/
DTSTAMP:20260424T024443Z
CATEGORIES:Monthly Meetings
DTSTART;TZID=America/Halifax:20240617T180000
DTEND;TZID=America/Halifax:20240617T200000
SUMMARY:Committee of the Whole Meeting
URL:https://www.digby.ca/37-monthly-meetings/6100-committee-of-the-whole-me
 eting.html
END:VEVENT
BEGIN:VEVENT
UID:20240715T180000ADT-9907TBk0I0@https://digby.ca/
DTSTAMP:20260424T024443Z
CATEGORIES:Monthly Meetings
DTSTART;TZID=America/Halifax:20240715T180000
DTEND;TZID=America/Halifax:20240715T200000
SUMMARY:Committee of the Whole Meeting
URL:https://www.digby.ca/37-monthly-meetings/6102-committee-of-the-whole-me
 eting.html
END:VEVENT
BEGIN:VEVENT
UID:20240819T180000ADT-39539Egzvj@https://digby.ca/
DTSTAMP:20260424T024443Z
CATEGORIES:Monthly Meetings
DTSTART;TZID=America/Halifax:20240819T180000
DTEND;TZID=America/Halifax:20240819T190000
SUMMARY:Committee of the Whole Meeting
URL:https://www.digby.ca/37-monthly-meetings/6104-committee-of-the-whole-me
 eting.html
END:VEVENT
BEGIN:VEVENT
UID:20240826T150000ADT-6537UDdUdM@https://digby.ca/
DTSTAMP:20260424T024443Z
CATEGORIES:Monthly Meetings
DTSTART;TZID=America/Halifax:20240826T150000
DTEND;TZID=America/Halifax:20240826T160000
SUMMARY:Committee of the Whole Meeting
URL:https://www.digby.ca/37-monthly-meetings/6116-committee-of-the-whole-me
 eting.html
END:VEVENT
BEGIN:VEVENT
UID:20240916T180000ADT-0368WoswBH@https://digby.ca/
DTSTAMP:20260424T024443Z
CATEGORIES:Monthly Meetings
DTSTART;TZID=America/Halifax:20240916T180000
DTEND;TZID=America/Halifax:20240916T200000
SUMMARY:Committee of the Whole Meeting
URL:https://www.digby.ca/37-monthly-meetings/6111-committee-of-the-whole-me
 eting.html
END:VEVENT
BEGIN:VEVENT
UID:20241021T180000ADT-5598BuJmeH@https://digby.ca/
DTSTAMP:20260424T024443Z
CATEGORIES:Monthly Meetings
DTSTART;TZID=America/Halifax:20241021T180000
DTEND;TZID=America/Halifax:20241021T200000
SUMMARY:Committee of the Whole Meeting
URL:https://www.digby.ca/37-monthly-meetings/6117-committee-of-the-whole-me
 eting.html
END:VEVENT
BEGIN:VEVENT
UID:20241118T180000AST-4071UvpEGL@https://digby.ca/
DTSTAMP:20260424T024443Z
CATEGORIES:Monthly Meetings
DTSTART;TZID=America/Halifax:20241118T180000
DTEND;TZID=America/Halifax:20241118T200000
SUMMARY:Committee of the Whole Meeting
URL:https://www.digby.ca/37-monthly-meetings/6119-committee-of-the-whole-me
 eting.html
END:VEVENT
BEGIN:VEVENT
UID:20241216T180000AST-0825dOGMae@https://digby.ca/
DTSTAMP:20260424T024443Z
CATEGORIES:Monthly Meetings
DTSTART;TZID=America/Halifax:20241216T180000
DTEND;TZID=America/Halifax:20241216T200000
SUMMARY:Committee of the Whole Meeting
URL:https://www.digby.ca/37-monthly-meetings/6121-committee-of-the-whole-me
 eting.html
END:VEVENT
BEGIN:VEVENT
UID:20250114T180000AST-7053lvDZVZ@https://digby.ca/
DTSTAMP:20260424T024443Z
CATEGORIES:Monthly Meetings
DTSTART;TZID=America/Halifax:20250114T180000
DTEND;TZID=America/Halifax:20250114T200000
SUMMARY:Planning Advisory Committee Meeting
URL:https://www.digby.ca/37-monthly-meetings/6135-planning-advisory-committ
 ee-meeting.html
END:VEVENT
BEGIN:VEVENT
UID:20250218T170000AST-9607JS2Hx0@https://digby.ca/
DTSTAMP:20260424T024443Z
CATEGORIES:Monthly Meetings
DTSTART;TZID=America/Halifax:20250218T170000
DTEND;TZID=America/Halifax:20250218T190000
SUMMARY:Committee of the Whole Meeting
URL:https://www.digby.ca/37-monthly-meetings/6136-committee-of-the-whole-me
 eting.html
END:VEVENT
BEGIN:VEVENT
UID:20250317T170000ADT-5324d8owzM@https://digby.ca/
DTSTAMP:20260424T024443Z
CATEGORIES:Monthly Meetings
DTSTART;TZID=America/Halifax:20250317T170000
DTEND;TZID=America/Halifax:20250317T190000
SUMMARY:Committee of the Whole Meeting
URL:https://www.digby.ca/37-monthly-meetings/6138-committee-of-the-whole-me
 eting.html
END:VEVENT
BEGIN:VEVENT
UID:20250422T170000ADT-4986bPeTwp@https://digby.ca/
DTSTAMP:20260424T024443Z
CATEGORIES:Monthly Meetings
DTSTART;TZID=America/Halifax:20250422T170000
DTEND;TZID=America/Halifax:20250422T190000
SUMMARY:Committee of the Whole Meeting
URL:https://www.digby.ca/37-monthly-meetings/6139-committee-of-the-whole-me
 eting.html
END:VEVENT
BEGIN:VEVENT
UID:20250520T170000ADT-09960t2v34@https://digby.ca/
DTSTAMP:20260424T024443Z
CATEGORIES:Monthly Meetings
DTSTART;TZID=America/Halifax:20250520T170000
DTEND;TZID=America/Halifax:20250520T190000
SUMMARY:Committee of the Whole Meeting
URL:https://www.digby.ca/37-monthly-meetings/6140-committee-of-the-whole-me
 eting.html
END:VEVENT
BEGIN:VEVENT
UID:20250616T170000ADT-5821E46nL3@https://digby.ca/
DTSTAMP:20260424T024443Z
CATEGORIES:Monthly Meetings
DTSTART;TZID=America/Halifax:20250616T180000
DTEND;TZID=America/Halifax:20250616T200000
SUMMARY:Committee of the Whole Meeting
URL:https://www.digby.ca/37-monthly-meetings/6141-committee-of-the-whole-me
 eting.html
END:VEVENT
BEGIN:VEVENT
UID:20250721T170000ADT-1407S7RvJ8@https://digby.ca/
DTSTAMP:20260424T024443Z
CATEGORIES:Monthly Meetings
DTSTART;TZID=America/Halifax:20250721T180000
DTEND;TZID=America/Halifax:20250721T200000
SUMMARY:Committee of the Whole Meeting
URL:https://www.digby.ca/37-monthly-meetings/6142-committee-of-the-whole-me
 eting.html
END:VEVENT
BEGIN:VEVENT
UID:20250818T180000ADT-5833OufMKV@https://digby.ca/
DTSTAMP:20260424T024443Z
CATEGORIES:Monthly Meetings
DTSTART;TZID=America/Halifax:20250818T180000
DTEND;TZID=America/Halifax:20250818T200000
SUMMARY:Committee of the Whole Meeting
URL:https://www.digby.ca/37-monthly-meetings/6146-committee-of-the-whole-me
 eting.html
END:VEVENT
BEGIN:VEVENT
UID:20250821T180000ADT-5630JucL2A@https://digby.ca/
DTSTAMP:20260424T024443Z
CATEGORIES:Monthly Meetings
DTSTART;TZID=America/Halifax:20250821T180000
DTEND;TZID=America/Halifax:20250821T200000
SUMMARY:Planning Advisory Committee
URL:https://www.digby.ca/37-monthly-meetings/6153-planning-advisory-committ
 ee.html
END:VEVENT
BEGIN:VEVENT
UID:20250915T180000ADT-3875tAiIw0@https://digby.ca/
DTSTAMP:20260424T024443Z
CATEGORIES:Monthly Meetings
DTSTART;TZID=America/Halifax:20250915T180000
DTEND;TZID=America/Halifax:20250915T200000
SUMMARY:Committee of the Whole Meeting
URL:https://www.digby.ca/37-monthly-meetings/6147-committee-of-the-whole-me
 eting.html
END:VEVENT
BEGIN:VEVENT
UID:20251020T180000ADT-0782ORHGre@https://digby.ca/
DTSTAMP:20260424T024443Z
CATEGORIES:Monthly Meetings
DTSTART;TZID=America/Halifax:20251020T180000
DTEND;TZID=America/Halifax:20251020T200000
SUMMARY:Committee of the Whole Meeting
URL:https://www.digby.ca/37-monthly-meetings/6148-committee-of-the-whole-me
 eting.html
END:VEVENT
BEGIN:VEVENT
UID:20251117T180000AST-9980aurmbx@https://digby.ca/
DTSTAMP:20260424T024443Z
CATEGORIES:Monthly Meetings
DTSTART;TZID=America/Halifax:20251117T180000
DTEND;TZID=America/Halifax:20251117T200000
SUMMARY:Committee of the Whole Meeting
URL:https://www.digby.ca/37-monthly-meetings/6149-committee-of-the-whole-me
 eting.html
END:VEVENT
BEGIN:VEVENT
UID:20251215T180000AST-8149gTXDdW@https://digby.ca/
DTSTAMP:20260424T024443Z
CATEGORIES:Monthly Meetings
DTSTART;TZID=America/Halifax:20251215T180000
DTEND;TZID=America/Halifax:20251215T200000
SUMMARY:Committee of the Whole Meeting
URL:https://www.digby.ca/37-monthly-meetings/6150-committee-of-the-whole-me
 eting.html
END:VEVENT
BEGIN:VEVENT
UID:20260119T180000AST-7962Kwp6Ua@https://digby.ca/
DTSTAMP:20260424T024443Z
CATEGORIES:Monthly Meetings
DTSTART;TZID=America/Halifax:20260119T180000
DTEND;TZID=America/Halifax:20260119T190000
RRULE:FREQ=MONTHLY;COUNT=12;INTERVAL=1;BYDAY=MO;BYSETPOS=3
SUMMARY:Committee of the Whole Meeting
URL:https://www.digby.ca/37-monthly-meetings/6155-committee-of-the-whole-me
 eting.html
END:VEVENT
END:VCALENDAR
