BEGIN:VCALENDAR
VERSION:2.0
PRODID:-//https://www.digby.ca//NONSGML kigkonsult.se iCalcreator 2.29.29//
CALSCALE:GREGORIAN
METHOD:PUBLISH
UID:92358bf6-8937-4235-875c-61207de2ca72
X-WR-CALNAME:JCal Pro Calendar
X-WR-CALDESC:Your online events calendar
X-WR-TIMEZONE:America/Halifax
BEGIN:VTIMEZONE
TZID:America/Halifax
BEGIN:STANDARD
TZNAME:AST
DTSTART:20251102T020000
TZOFFSETFROM:-0300
TZOFFSETTO:-0400
RDATE:20261101T020000
END:STANDARD
BEGIN:DAYLIGHT
TZNAME:ADT
DTSTART:20260308T020000
TZOFFSETFROM:-0400
TZOFFSETTO:-0300
RDATE:20270314T020000
END:DAYLIGHT
END:VTIMEZONE
BEGIN:VEVENT
UID:20170516T150000UTC-413518@http://localhost:8888/digbytown/
DTSTAMP:20260423T234129Z
CATEGORIES:Monthly Meetings
DTSTART;TZID=America/Halifax:20170516T120000
DTEND;TZID=America/Halifax:20170516T130000
RRULE:FREQ=MONTHLY;COUNT=2;INTERVAL=1;BYDAY=TU;BYSETPOS=3
SUMMARY:Digby Water Commission
URL:https://www.digby.ca/37-monthly-meetings/5803-digby-water-commission.ht
 ml
END:VEVENT
BEGIN:VEVENT
UID:20180115T220000UTC-e11a7e@https://digby.ca/
DTSTAMP:20260423T234129Z
CATEGORIES:Monthly Meetings
DTSTART;TZID=America/Halifax:20180115T180000
DTEND;TZID=America/Halifax:20180115T190000
EXDATE;TZID=America/Halifax:20180220T180000
RRULE:FREQ=MONTHLY;UNTIL=20181216T040000Z;INTERVAL=1;BYDAY=MO;BYSETPOS=3
SUMMARY:Committee of the Whole
URL:https://www.digby.ca/37-monthly-meetings/5826-committee-of-the-whole.ht
 ml
END:VEVENT
BEGIN:VEVENT
UID:20180116T160000UTC-0d6633@https://digby.ca/
DTSTAMP:20260423T234129Z
CATEGORIES:Monthly Meetings
DTSTART;TZID=America/Halifax:20180116T120000
DTEND;TZID=America/Halifax:20180116T130000
EXDATE;TZID=America/Halifax:20181120T120000
RRULE:FREQ=MONTHLY;UNTIL=20181217T040000Z;INTERVAL=1;BYDAY=TU;BYSETPOS=3
SUMMARY:Digby Water Commission
URL:https://www.digby.ca/37-monthly-meetings/5814-digby-water-commission.ht
 ml
END:VEVENT
BEGIN:VEVENT
UID:20180115T220000UTC-e11a7e@https://digby.ca/
DTSTAMP:20260423T234129Z
CATEGORIES:Monthly Meetings
DTSTART;TZID=America/Halifax:20180220T180000
DTEND;TZID=America/Halifax:20180220T190000
SUMMARY:Committee of the Whole
URL:https://www.digby.ca/37-monthly-meetings/5838-committee-of-the-whole.ht
 ml
END:VEVENT
BEGIN:VEVENT
UID:20180116T160000UTC-0d6633@https://digby.ca/
DTSTAMP:20260423T234129Z
CATEGORIES:Monthly Meetings
DTSTART;TZID=America/Halifax:20181120T120000
DTEND;TZID=America/Halifax:20181120T130000
SUMMARY:Digby Water Commission
URL:https://www.digby.ca/37-monthly-meetings/5824-digby-water-commission.ht
 ml
END:VEVENT
BEGIN:VEVENT
UID:20190115T120000AST-4487hGT9Pw@https://digby.ca/
DTSTAMP:20260423T234129Z
CATEGORIES:Monthly Meetings
DTSTART;TZID=America/Halifax:20190115T120000
DTEND;TZID=America/Halifax:20190115T130000
RRULE:FREQ=MONTHLY;COUNT=12;INTERVAL=1;BYDAY=TU;BYSETPOS=3
SUMMARY:Digby Water Commission Meeting
URL:https://www.digby.ca/37-monthly-meetings/5856-digby-water-commission-me
 eting.html
END:VEVENT
BEGIN:VEVENT
UID:20190219T120000AST-8097nr52JV@https://digby.ca/
DTSTAMP:20260423T234129Z
CATEGORIES:Monthly Meetings
DTSTART;TZID=America/Halifax:20190219T120000
DTEND;TZID=America/Halifax:20190219T130000
SUMMARY:Committee of the Whole Meeting
URL:https://www.digby.ca/37-monthly-meetings/5907-committee-of-the-whole-me
 eting.html
END:VEVENT
BEGIN:VEVENT
UID:20200120T180000AST-2185aMNxOF@https://digby.ca/
DTSTAMP:20260423T234129Z
CATEGORIES:Monthly Meetings
DTSTART;TZID=America/Halifax:20200120T180000
DTEND;TZID=America/Halifax:20200120T200000
SUMMARY:Committee of the Whole meeting
URL:https://www.digby.ca/37-monthly-meetings/5927-committee-of-the-whole-me
 eting.html
END:VEVENT
BEGIN:VEVENT
UID:20200121T120000AST-5951NZgBAV@https://digby.ca/
DTSTAMP:20260423T234129Z
CATEGORIES:Monthly Meetings
DTSTART;TZID=America/Halifax:20200121T120000
DTEND;TZID=America/Halifax:20200121T130000
SUMMARY:Digby Water Commission Meeting
URL:https://www.digby.ca/37-monthly-meetings/5928-digby-water-commission-me
 eting.html
END:VEVENT
BEGIN:VEVENT
UID:20200218T120000AST-2604VudpXW@https://digby.ca/
DTSTAMP:20260423T234129Z
CATEGORIES:Monthly Meetings
DTSTART;TZID=America/Halifax:20200218T120000
DTEND;TZID=America/Halifax:20200218T130000
SUMMARY:Digby Water Commission Meeting
URL:https://www.digby.ca/37-monthly-meetings/5931-digby-water-commission-me
 eting.html
END:VEVENT
BEGIN:VEVENT
UID:20200217T180000AST-1226b0cOJx@https://digby.ca/
DTSTAMP:20260423T234129Z
CATEGORIES:Monthly Meetings
DTSTART;TZID=America/Halifax:20200218T180000
DTEND;TZID=America/Halifax:20200218T190000
SUMMARY:Committee of the Whole Meeting
URL:https://www.digby.ca/37-monthly-meetings/5930-committee-of-the-whole-me
 eting.html
END:VEVENT
BEGIN:VEVENT
UID:20200316T180000ADT-8667RS66FF@https://digby.ca/
DTSTAMP:20260423T234129Z
CATEGORIES:Monthly Meetings
DTSTART;TZID=America/Halifax:20200316T180000
DTEND;TZID=America/Halifax:20200316T190000
SUMMARY:Committee of the Whole Meeting
URL:https://www.digby.ca/37-monthly-meetings/5933-committee-of-the-whole-me
 eting.html
END:VEVENT
BEGIN:VEVENT
UID:20200316T120000ADT-5528JgELd5@https://digby.ca/
DTSTAMP:20260423T234129Z
CATEGORIES:Monthly Meetings
DTSTART;TZID=America/Halifax:20200317T120000
DTEND;TZID=America/Halifax:20200317T130000
SUMMARY:Digby Water Commission Meeting
URL:https://www.digby.ca/37-monthly-meetings/5934-digby-water-commission-me
 eting.html
END:VEVENT
BEGIN:VEVENT
UID:20200420T180000ADT-58635Xmp7h@https://digby.ca/
DTSTAMP:20260423T234129Z
CATEGORIES:Monthly Meetings
DTSTART;TZID=America/Halifax:20200420T180000
DTEND;TZID=America/Halifax:20200420T190000
SUMMARY:Committee of the Whole Meeting
URL:https://www.digby.ca/37-monthly-meetings/5936-committee-of-the-whole-me
 eting.html
END:VEVENT
BEGIN:VEVENT
UID:20200421T120000ADT-3049nTis5Z@https://digby.ca/
DTSTAMP:20260423T234129Z
CATEGORIES:Monthly Meetings
DTSTART;TZID=America/Halifax:20200421T120000
DTEND;TZID=America/Halifax:20200421T130000
SUMMARY:Digby Water Commission Meeting
URL:https://www.digby.ca/37-monthly-meetings/5937-digby-water-commission-me
 eting.html
END:VEVENT
BEGIN:VEVENT
UID:20200518T180000ADT-8115LbBao0@https://digby.ca/
DTSTAMP:20260423T234129Z
CATEGORIES:Monthly Meetings
DTSTART;TZID=America/Halifax:20200518T180000
DTEND;TZID=America/Halifax:20200518T190000
SUMMARY:Committee of the Whole Meeting
URL:https://www.digby.ca/37-monthly-meetings/5939-committee-of-the-whole-me
 eting.html
END:VEVENT
BEGIN:VEVENT
UID:20200519T120000ADT-8223IubB2B@https://digby.ca/
DTSTAMP:20260423T234129Z
CATEGORIES:Monthly Meetings
DTSTART;TZID=America/Halifax:20200519T120000
DTEND;TZID=America/Halifax:20200519T130000
SUMMARY:Digby Water Commission Meeting
URL:https://www.digby.ca/37-monthly-meetings/5940-digby-water-commission-me
 eting.html
END:VEVENT
BEGIN:VEVENT
UID:20201019T180000ADT-8879Jjr72v@https://digby.ca/
DTSTAMP:20260423T234129Z
CATEGORIES:Monthly Meetings
DTSTART;TZID=America/Halifax:20201019T180000
DTEND;TZID=America/Halifax:20201019T200000
RRULE:FREQ=MONTHLY;UNTIL=20210922T030000Z;INTERVAL=1;BYDAY=MO;BYSETPOS=3
SUMMARY:Committee of the Whole
URL:https://www.digby.ca/37-monthly-meetings/5942-committee-of-the-whole.ht
 ml
END:VEVENT
END:VCALENDAR
